BEGIN:VCALENDAR
VERSION:2.0
PRODID:-//The Atom Bistro and Coffee Bar - ECPv6.15.20//NONSGML v1.0//EN
CALSCALE:GREGORIAN
METHOD:PUBLISH
X-ORIGINAL-URL:https://theatomcoffeebar.com
X-WR-CALDESC:Events for The Atom Bistro and Coffee Bar
REFRESH-INTERVAL;VALUE=DURATION:PT1H
X-Robots-Tag:noindex
X-PUBLISHED-TTL:PT1H
BEGIN:VTIMEZONE
TZID:America/Los_Angeles
BEGIN:DAYLIGHT
TZOFFSETFROM:-0800
TZOFFSETTO:-0700
TZNAME:PDT
DTSTART:20250309T100000
END:DAYLIGHT
BEGIN:STANDARD
TZOFFSETFROM:-0700
TZOFFSETTO:-0800
TZNAME:PST
DTSTART:20251102T090000
END:STANDARD
BEGIN:DAYLIGHT
TZOFFSETFROM:-0800
TZOFFSETTO:-0700
TZNAME:PDT
DTSTART:20260308T100000
END:DAYLIGHT
BEGIN:STANDARD
TZOFFSETFROM:-0700
TZOFFSETTO:-0800
TZNAME:PST
DTSTART:20261101T090000
END:STANDARD
BEGIN:DAYLIGHT
TZOFFSETFROM:-0800
TZOFFSETTO:-0700
TZNAME:PDT
DTSTART:20270314T100000
END:DAYLIGHT
BEGIN:STANDARD
TZOFFSETFROM:-0700
TZOFFSETTO:-0800
TZNAME:PST
DTSTART:20271107T090000
END:STANDARD
END:VTIMEZONE
BEGIN:VEVENT
DTSTART;TZID=America/Los_Angeles:20260220T180000
DTEND;TZID=America/Los_Angeles:20260220T200000
DTSTAMP:20260423T124422
CREATED:20260214T185354Z
LAST-MODIFIED:20260214T185354Z
UID:4503-1771610400-1771617600@theatomcoffeebar.com
SUMMARY:Live Music with Farm Party
DESCRIPTION:Farm Party returns to The Atom for another evening of Authentic Bluegrass\, Folk and Swing Music!  You won’t want to miss this high energy and uplifting performance from multiple local artists that come together in perfect harmony!  Tables tend to fill up when they are here\, and for good reason – so you’ll want to make a reservation early! \n\n\n\n\nReservation Form\n\n\n\n\n\n\n\n\n	Name\n		*\n	\n	\n	\n		Name	\n\n	\n					\n				\n					First Name				\n\n				First Name			\n						\n				\n					Last Name				\n\n				Last Name			\n				\n\n\n	\n	\n\n\n	Phone\n		*\n	\n	\n	\n	\n\n\n	Email\n		*\n	\n	\n	\n	\n\n\n	Date\n		*\n	\n	\n	\n	\n\n\n	Time\n		\n	\n	5:30 PM5:45 PM6:00 PM6:15 PM6:30 PM6:45 PM7:00 PM7:15 PM\n	\n	\n\n\n	Number of Guests\n		\n	\n	\n	\n	\n\n\n	\nSubmit\n\n\n\n\n\n	\n			\n			\n				If you are human\, leave this field blank.			\n			\n		\n		\n\n\n\nΔ
URL:https://theatomcoffeebar.com/event/live-music-with-farm-party/
LOCATION:The Atom Bistro and Coffee Bar\, 19017 N. Umpqua Hwy.\, Glide\, OR\, 97443\, United States
ATTACH;FMTTYPE=image/jpeg:https://theatomcoffeebar.com/wp-content/uploads/2026/02/Farm-Party-Feb-feature.jpg
END:VEVENT
END:VCALENDAR