BEGIN:VCALENDAR
VERSION:2.0
PRODID:-//The Atom Bistro and Coffee Bar - ECPv6.15.20//NONSGML v1.0//EN
CALSCALE:GREGORIAN
METHOD:PUBLISH
X-WR-CALNAME:The Atom Bistro and Coffee Bar
X-ORIGINAL-URL:https://theatomcoffeebar.com
X-WR-CALDESC:Events for The Atom Bistro and Coffee Bar
REFRESH-INTERVAL;VALUE=DURATION:PT1H
X-Robots-Tag:noindex
X-PUBLISHED-TTL:PT1H
BEGIN:VTIMEZONE
TZID:America/Los_Angeles
BEGIN:DAYLIGHT
TZOFFSETFROM:-0800
TZOFFSETTO:-0700
TZNAME:PDT
DTSTART:20250309T100000
END:DAYLIGHT
BEGIN:STANDARD
TZOFFSETFROM:-0700
TZOFFSETTO:-0800
TZNAME:PST
DTSTART:20251102T090000
END:STANDARD
BEGIN:DAYLIGHT
TZOFFSETFROM:-0800
TZOFFSETTO:-0700
TZNAME:PDT
DTSTART:20260308T100000
END:DAYLIGHT
BEGIN:STANDARD
TZOFFSETFROM:-0700
TZOFFSETTO:-0800
TZNAME:PST
DTSTART:20261101T090000
END:STANDARD
BEGIN:DAYLIGHT
TZOFFSETFROM:-0800
TZOFFSETTO:-0700
TZNAME:PDT
DTSTART:20270314T100000
END:DAYLIGHT
BEGIN:STANDARD
TZOFFSETFROM:-0700
TZOFFSETTO:-0800
TZNAME:PST
DTSTART:20271107T090000
END:STANDARD
END:VTIMEZONE
BEGIN:VEVENT
DTSTART;TZID=America/Los_Angeles:20260227T180000
DTEND;TZID=America/Los_Angeles:20260227T200000
DTSTAMP:20260423T124354
CREATED:20260216T214122Z
LAST-MODIFIED:20260216T214122Z
UID:4513-1772215200-1772222400@theatomcoffeebar.com
SUMMARY:Speakeasy with The Hotqua String Band
DESCRIPTION:Join us for another Atom Speakeasy Event featuring live music by the Hotqua String Band!  We’ll have great dinner specials\, drinks\, music\, and a 1920s Vibe!  Give yourself a reason to get dressed up and go out on the town – in our small town of Glide!  We have the atmosphere and energy you are looking for!  Reserve a table today! \n\n\n\n\nReservation Form\n\n\n\n\n\n\n\n\n	Name\n		*\n	\n	\n	\n		Name	\n\n	\n					\n				\n					First Name				\n\n				First Name			\n						\n				\n					Last Name				\n\n				Last Name			\n				\n\n\n	\n	\n\n\n	Phone\n		*\n	\n	\n	\n	\n\n\n	Email\n		*\n	\n	\n	\n	\n\n\n	Date\n		*\n	\n	\n	\n	\n\n\n	Time\n		\n	\n	5:30 PM5:45 PM6:00 PM6:15 PM6:30 PM6:45 PM7:00 PM7:15 PM\n	\n	\n\n\n	Number of Guests\n		\n	\n	\n	\n	\n\n\n	\nSubmit\n\n\n\n\n\n	\n			\n			\n				If you are human\, leave this field blank.			\n			\n		\n		\n\n\n\nΔ
URL:https://theatomcoffeebar.com/event/speakeasy-with-the-hotqua-string-band/
LOCATION:The Atom Bistro and Coffee Bar\, 19017 N. Umpqua Hwy.\, Glide\, OR\, 97443\, United States
ATTACH;FMTTYPE=image/jpeg:https://theatomcoffeebar.com/wp-content/uploads/2026/02/Hotqua-Speakeasy-Feature.jpg
END:VEVENT
END:VCALENDAR