BEGIN:VCALENDAR
VERSION:2.0
PRODID:-//The Atom Bistro and Coffee Bar - ECPv6.15.20//NONSGML v1.0//EN
CALSCALE:GREGORIAN
METHOD:PUBLISH
X-WR-CALNAME:The Atom Bistro and Coffee Bar
X-ORIGINAL-URL:https://theatomcoffeebar.com
X-WR-CALDESC:Events for The Atom Bistro and Coffee Bar
REFRESH-INTERVAL;VALUE=DURATION:PT1H
X-Robots-Tag:noindex
X-PUBLISHED-TTL:PT1H
BEGIN:VTIMEZONE
TZID:America/Los_Angeles
BEGIN:DAYLIGHT
TZOFFSETFROM:-0800
TZOFFSETTO:-0700
TZNAME:PDT
DTSTART:20250309T100000
END:DAYLIGHT
BEGIN:STANDARD
TZOFFSETFROM:-0700
TZOFFSETTO:-0800
TZNAME:PST
DTSTART:20251102T090000
END:STANDARD
BEGIN:DAYLIGHT
TZOFFSETFROM:-0800
TZOFFSETTO:-0700
TZNAME:PDT
DTSTART:20260308T100000
END:DAYLIGHT
BEGIN:STANDARD
TZOFFSETFROM:-0700
TZOFFSETTO:-0800
TZNAME:PST
DTSTART:20261101T090000
END:STANDARD
BEGIN:DAYLIGHT
TZOFFSETFROM:-0800
TZOFFSETTO:-0700
TZNAME:PDT
DTSTART:20270314T100000
END:DAYLIGHT
BEGIN:STANDARD
TZOFFSETFROM:-0700
TZOFFSETTO:-0800
TZNAME:PST
DTSTART:20271107T090000
END:STANDARD
END:VTIMEZONE
BEGIN:VEVENT
DTSTART;TZID=America/Los_Angeles:20260213T173000
DTEND;TZID=America/Los_Angeles:20260213T210000
DTSTAMP:20260423T150525
CREATED:20260123T230143Z
LAST-MODIFIED:20260213T184254Z
UID:4455-1771003800-1771016400@theatomcoffeebar.com
SUMMARY:Valentine's Weekend - Friday Reservations
DESCRIPTION:Show your better half how much you care by having a reservation booked in advance for an intimate and exclusive dinner at The Atom.  Add Flowers\, Champagne\, a Plush Teddy Bear and Chocolate covered Strawberries to round out our carefully planned menu of Appetizers\, Entrees\, and Desserts\, and you have a perfect evening in the works.  We have Live Music by David Rogers\, acoustic guitar.  Please call 541-530-8557 to check availability.  ToWe are no longer accepting online reservations. \n 
URL:https://theatomcoffeebar.com/event/valentines-weekend-reservation-only/
LOCATION:The Atom Bistro and Coffee Bar\, 19017 N. Umpqua Hwy.\, Glide\, OR\, 97443\, United States
ATTACH;FMTTYPE=image/jpeg:https://theatomcoffeebar.com/wp-content/uploads/2026/01/VDay-Hands.jpg
END:VEVENT
BEGIN:VEVENT
DTSTART;TZID=America/Los_Angeles:20260214T173000
DTEND;TZID=America/Los_Angeles:20260214T210000
DTSTAMP:20260423T150525
CREATED:20260124T194236Z
LAST-MODIFIED:20260213T185003Z
UID:4466-1771090200-1771102800@theatomcoffeebar.com
SUMMARY:Valentine's Day Reservations
DESCRIPTION:Show your better half how much you care by having a reservation booked in advance for an intimate and exclusive dinner at The Atom.  Add Flowers\, Champagne\, a Plush Teddy Bear and Chocolate covered Strawberries to round out our carefully planned menu of Appetizers\, Entrees\, and Desserts\, and you have a perfect evening in the works.   Our doors will be open until 9pm\, taking our last reservation at 8pm.  Please call 541-530-8557 to check availability.  We are no longer accepting online reservations.
URL:https://theatomcoffeebar.com/event/valentines-day-reservation/
LOCATION:The Atom Bistro and Coffee Bar\, 19017 N. Umpqua Hwy.\, Glide\, OR\, 97443\, United States
ATTACH;FMTTYPE=image/jpeg:https://theatomcoffeebar.com/wp-content/uploads/2026/01/VDay-Hands.jpg
END:VEVENT
BEGIN:VEVENT
DTSTART;TZID=America/Los_Angeles:20260219T180000
DTEND;TZID=America/Los_Angeles:20260219T210000
DTSTAMP:20260423T150525
CREATED:20260214T183422Z
LAST-MODIFIED:20260214T185432Z
UID:4499-1771524000-1771534800@theatomcoffeebar.com
SUMMARY:Cowboy Karaoke
DESCRIPTION:It’s gonna be a ‘Boot Scootin’ night of fun!  Grab your hats and spurs and sign up to rock your favorite tunes – Cowboy or otherwise!  We’ll bring the lanterns and barbecue!  Get your friends together and reserve some tables! \n\n\n\n\nReservation Form\n\n\n\n\n\n\n\n\n	Name\n		*\n	\n	\n	\n		Name	\n\n	\n					\n				\n					First Name				\n\n				First Name			\n						\n				\n					Last Name				\n\n				Last Name			\n				\n\n\n	\n	\n\n\n	Phone\n		*\n	\n	\n	\n	\n\n\n	Email\n		*\n	\n	\n	\n	\n\n\n	Date\n		*\n	\n	\n	\n	\n\n\n	Time\n		\n	\n	5:30 PM5:45 PM6:00 PM6:15 PM6:30 PM6:45 PM7:00 PM7:15 PM\n	\n	\n\n\n	Number of Guests\n		\n	\n	\n	\n	\n\n\n	\nSubmit\n\n\n\n\n\n	\n			\n			\n				If you are human\, leave this field blank.			\n			\n		\n		\n\n\n\nΔ
URL:https://theatomcoffeebar.com/event/cowboy-karaoke/
LOCATION:The Atom Bistro and Coffee Bar\, 19017 N. Umpqua Hwy.\, Glide\, OR\, 97443\, United States
ATTACH;FMTTYPE=image/jpeg:https://theatomcoffeebar.com/wp-content/uploads/2026/02/Cowboy-Karaoke-Feature.jpg
END:VEVENT
BEGIN:VEVENT
DTSTART;TZID=America/Los_Angeles:20260220T180000
DTEND;TZID=America/Los_Angeles:20260220T200000
DTSTAMP:20260423T150525
CREATED:20260214T185354Z
LAST-MODIFIED:20260214T185354Z
UID:4503-1771610400-1771617600@theatomcoffeebar.com
SUMMARY:Live Music with Farm Party
DESCRIPTION:Farm Party returns to The Atom for another evening of Authentic Bluegrass\, Folk and Swing Music!  You won’t want to miss this high energy and uplifting performance from multiple local artists that come together in perfect harmony!  Tables tend to fill up when they are here\, and for good reason – so you’ll want to make a reservation early! \n\n\n\n\nReservation Form\n\n\n\n\n\n\n\n\n	Name\n		*\n	\n	\n	\n		Name	\n\n	\n					\n				\n					First Name				\n\n				First Name			\n						\n				\n					Last Name				\n\n				Last Name			\n				\n\n\n	\n	\n\n\n	Phone\n		*\n	\n	\n	\n	\n\n\n	Email\n		*\n	\n	\n	\n	\n\n\n	Date\n		*\n	\n	\n	\n	\n\n\n	Time\n		\n	\n	5:30 PM5:45 PM6:00 PM6:15 PM6:30 PM6:45 PM7:00 PM7:15 PM\n	\n	\n\n\n	Number of Guests\n		\n	\n	\n	\n	\n\n\n	\nSubmit\n\n\n\n\n\n	\n			\n			\n				If you are human\, leave this field blank.			\n			\n		\n		\n\n\n\nΔ
URL:https://theatomcoffeebar.com/event/live-music-with-farm-party/
LOCATION:The Atom Bistro and Coffee Bar\, 19017 N. Umpqua Hwy.\, Glide\, OR\, 97443\, United States
ATTACH;FMTTYPE=image/jpeg:https://theatomcoffeebar.com/wp-content/uploads/2026/02/Farm-Party-Feb-feature.jpg
END:VEVENT
BEGIN:VEVENT
DTSTART;TZID=America/Los_Angeles:20260227T180000
DTEND;TZID=America/Los_Angeles:20260227T200000
DTSTAMP:20260423T150525
CREATED:20260216T214122Z
LAST-MODIFIED:20260216T214122Z
UID:4513-1772215200-1772222400@theatomcoffeebar.com
SUMMARY:Speakeasy with The Hotqua String Band
DESCRIPTION:Join us for another Atom Speakeasy Event featuring live music by the Hotqua String Band!  We’ll have great dinner specials\, drinks\, music\, and a 1920s Vibe!  Give yourself a reason to get dressed up and go out on the town – in our small town of Glide!  We have the atmosphere and energy you are looking for!  Reserve a table today! \n\n\n\n\nReservation Form\n\n\n\n\n\n\n\n\n	Name\n		*\n	\n	\n	\n		Name	\n\n	\n					\n				\n					First Name				\n\n				First Name			\n						\n				\n					Last Name				\n\n				Last Name			\n				\n\n\n	\n	\n\n\n	Phone\n		*\n	\n	\n	\n	\n\n\n	Email\n		*\n	\n	\n	\n	\n\n\n	Date\n		*\n	\n	\n	\n	\n\n\n	Time\n		\n	\n	5:30 PM5:45 PM6:00 PM6:15 PM6:30 PM6:45 PM7:00 PM7:15 PM\n	\n	\n\n\n	Number of Guests\n		\n	\n	\n	\n	\n\n\n	\nSubmit\n\n\n\n\n\n	\n			\n			\n				If you are human\, leave this field blank.			\n			\n		\n		\n\n\n\nΔ
URL:https://theatomcoffeebar.com/event/speakeasy-with-the-hotqua-string-band/
LOCATION:The Atom Bistro and Coffee Bar\, 19017 N. Umpqua Hwy.\, Glide\, OR\, 97443\, United States
ATTACH;FMTTYPE=image/jpeg:https://theatomcoffeebar.com/wp-content/uploads/2026/02/Hotqua-Speakeasy-Feature.jpg
END:VEVENT
BEGIN:VEVENT
DTSTART;TZID=America/Los_Angeles:20260305T180000
DTEND;TZID=America/Los_Angeles:20260305T200000
DTSTAMP:20260423T150525
CREATED:20260215T232720Z
LAST-MODIFIED:20260216T214758Z
UID:4507-1772733600-1772740800@theatomcoffeebar.com
SUMMARY:Flower Power Karaoke
DESCRIPTION:We love our Themed Karaoke Nights!  Bring all the Peace and Love and Good Vibes! There is no other venue that provides the laid back\, inclusive\, and supportive atmosphere that we do for a night of Karaoke!  If you show up nervous\, you’ll be put at ease very quickly!  We’re a little goofy\, super encouraging\, and we love it when our guests put themselves out there.  Come join us and become part of this Karaoke Family!  Grab your friends\, reserve a table\, and break out your bell bottoms and headbands! \n\n\n\n\nReservation Form\n\n\n\n\n\n\n\n\n	Name\n		*\n	\n	\n	\n		Name	\n\n	\n					\n				\n					First Name				\n\n				First Name			\n						\n				\n					Last Name				\n\n				Last Name			\n				\n\n\n	\n	\n\n\n	Phone\n		*\n	\n	\n	\n	\n\n\n	Email\n		*\n	\n	\n	\n	\n\n\n	Date\n		*\n	\n	\n	\n	\n\n\n	Time\n		\n	\n	5:30 PM5:45 PM6:00 PM6:15 PM6:30 PM6:45 PM7:00 PM7:15 PM\n	\n	\n\n\n	Number of Guests\n		\n	\n	\n	\n	\n\n\n	\nSubmit\n\n\n\n\n\n	\n			\n			\n				If you are human\, leave this field blank.			\n			\n		\n		\n\n\n\nΔ
URL:https://theatomcoffeebar.com/event/flower-power-karaoke/
LOCATION:The Atom Bistro and Coffee Bar\, 19017 N. Umpqua Hwy.\, Glide\, OR\, 97443\, United States
ATTACH;FMTTYPE=image/jpeg:https://theatomcoffeebar.com/wp-content/uploads/2026/02/Flower-Power-Feature.jpg
END:VEVENT
BEGIN:VEVENT
DTSTART;TZID=America/Los_Angeles:20260306T180000
DTEND;TZID=America/Los_Angeles:20260306T200000
DTSTAMP:20260423T150525
CREATED:20260224T185400Z
LAST-MODIFIED:20260228T181814Z
UID:4517-1772820000-1772827200@theatomcoffeebar.com
SUMMARY:Last Speakeasy of the Season
DESCRIPTION:Be sure to join us Friday\, March 6th\, for our final Speakeasy of the season featuring The Sunstone Trio!  We’ll be bringing the 1920s to Glide in Decor and Music – So give yourself an excuse to get dressed up for a night out with live swing music\, great dinner specials\, and a warm atmosphere!  You’ll only find this at The Atom! \n\n\n\n\nReservation Form\n\n\n\n\n\n\n\n\n	Name\n		*\n	\n	\n	\n		Name	\n\n	\n					\n				\n					First Name				\n\n				First Name			\n						\n				\n					Last Name				\n\n				Last Name			\n				\n\n\n	\n	\n\n\n	Phone\n		*\n	\n	\n	\n	\n\n\n	Email\n		*\n	\n	\n	\n	\n\n\n	Date\n		*\n	\n	\n	\n	\n\n\n	Time\n		\n	\n	5:30 PM5:45 PM6:00 PM6:15 PM6:30 PM6:45 PM7:00 PM7:15 PM\n	\n	\n\n\n	Number of Guests\n		\n	\n	\n	\n	\n\n\n	\nSubmit\n\n\n\n\n\n	\n			\n			\n				If you are human\, leave this field blank.			\n			\n		\n		\n\n\n\nΔ
URL:https://theatomcoffeebar.com/event/last-speakeasy-of-the-season/
LOCATION:The Atom Bistro and Coffee Bar\, 19017 N. Umpqua Hwy.\, Glide\, OR\, 97443\, United States
ATTACH;FMTTYPE=image/jpeg:https://theatomcoffeebar.com/wp-content/uploads/2026/02/Last-Speakeasy-Feature.jpg
END:VEVENT
BEGIN:VEVENT
DTSTART;TZID=America/Los_Angeles:20260313T180000
DTEND;TZID=America/Los_Angeles:20260313T200000
DTSTAMP:20260423T150525
CREATED:20260311T181001Z
LAST-MODIFIED:20260311T182901Z
UID:4525-1773424800-1773432000@theatomcoffeebar.com
SUMMARY:Vine Katz Vintage Vocal Jazz Duo
DESCRIPTION:We are so happy to have Liz Jones and Dave Wilson returning to us for some Vintage Jazz\, Latin\, and Pop by the Vine Katz! \nWe love supporting the diverse talents of our musicians right here in Douglas County!  Join us for this genre of music you don’t get to see to often in this area.  We’ll be serving some great dinner specials by our talented chefs – no cover charge – just a chance to get out and enjoy a spring evening at The Atom!  Make your reservation today! \n\n\n\n\nReservation Form\n\n\n\n\n\n\n\n\n	Name\n		*\n	\n	\n	\n		Name	\n\n	\n					\n				\n					First Name				\n\n				First Name			\n						\n				\n					Last Name				\n\n				Last Name			\n				\n\n\n	\n	\n\n\n	Phone\n		*\n	\n	\n	\n	\n\n\n	Email\n		*\n	\n	\n	\n	\n\n\n	Date\n		*\n	\n	\n	\n	\n\n\n	Time\n		\n	\n	5:30 PM5:45 PM6:00 PM6:15 PM6:30 PM6:45 PM7:00 PM7:15 PM\n	\n	\n\n\n	Number of Guests\n		\n	\n	\n	\n	\n\n\n	\nSubmit\n\n\n\n\n\n	\n			\n			\n				If you are human\, leave this field blank.			\n			\n		\n		\n\n\n\nΔ
URL:https://theatomcoffeebar.com/event/vine-katz-vintage-vocal-jazz-duo/
LOCATION:The Atom Bistro and Coffee Bar\, 19017 N. Umpqua Hwy.\, Glide\, OR\, 97443\, United States
ATTACH;FMTTYPE=image/jpeg:https://theatomcoffeebar.com/wp-content/uploads/2026/03/Vine-Katz-March_Feature.jpg
END:VEVENT
BEGIN:VEVENT
DTSTART;TZID=America/Los_Angeles:20260319T180000
DTEND;TZID=America/Los_Angeles:20260319T200000
DTSTAMP:20260423T150525
CREATED:20260311T181704Z
LAST-MODIFIED:20260311T182833Z
UID:4528-1773943200-1773950400@theatomcoffeebar.com
SUMMARY:Movie Night Karaoke
DESCRIPTION:Dress up as your favorite movie character and grab a mic to sing from your favorite soundtracks!  We’re rolling out the red carpet for Movie Night Karaoke! \nTables have been filling up fast\, so please make a reservation for your party! \n\n\n\n\nReservation Form\n\n\n\n\n\n\n\n\n	Name\n		*\n	\n	\n	\n		Name	\n\n	\n					\n				\n					First Name				\n\n				First Name			\n						\n				\n					Last Name				\n\n				Last Name			\n				\n\n\n	\n	\n\n\n	Phone\n		*\n	\n	\n	\n	\n\n\n	Email\n		*\n	\n	\n	\n	\n\n\n	Date\n		*\n	\n	\n	\n	\n\n\n	Time\n		\n	\n	5:30 PM5:45 PM6:00 PM6:15 PM6:30 PM6:45 PM7:00 PM7:15 PM\n	\n	\n\n\n	Number of Guests\n		\n	\n	\n	\n	\n\n\n	\nSubmit\n\n\n\n\n\n	\n			\n			\n				If you are human\, leave this field blank.			\n			\n		\n		\n\n\n\nΔ
URL:https://theatomcoffeebar.com/event/movie-night-karaoke/
LOCATION:The Atom Bistro and Coffee Bar\, 19017 N. Umpqua Hwy.\, Glide\, OR\, 97443\, United States
ATTACH;FMTTYPE=image/jpeg:https://theatomcoffeebar.com/wp-content/uploads/2026/03/Movie_feature.jpg
END:VEVENT
BEGIN:VEVENT
DTSTART;TZID=America/Los_Angeles:20260320T180000
DTEND;TZID=America/Los_Angeles:20260320T200000
DTSTAMP:20260423T150525
CREATED:20260311T182745Z
LAST-MODIFIED:20260311T182745Z
UID:4531-1774029600-1774036800@theatomcoffeebar.com
SUMMARY:Celtic Music by Stringsanity Trio
DESCRIPTION:We’re celebrating St. Patrick’s Day a few days late with Celtic Music by the Stringsanity Trio.  You’ll love this energetic band of local talent as they whisk you away to the old country for the evening.  Enjoy our dinner specials – including our Corn Beef Hash and Reuben Sandwiches… and\, of course\, beer. \nWe hope to see you there!  Make your reservations now to guarantee your table! \n\n\n\n\nReservation Form\n\n\n\n\n\n\n\n\n	Name\n		*\n	\n	\n	\n		Name	\n\n	\n					\n				\n					First Name				\n\n				First Name			\n						\n				\n					Last Name				\n\n				Last Name			\n				\n\n\n	\n	\n\n\n	Phone\n		*\n	\n	\n	\n	\n\n\n	Email\n		*\n	\n	\n	\n	\n\n\n	Date\n		*\n	\n	\n	\n	\n\n\n	Time\n		\n	\n	5:30 PM5:45 PM6:00 PM6:15 PM6:30 PM6:45 PM7:00 PM7:15 PM\n	\n	\n\n\n	Number of Guests\n		\n	\n	\n	\n	\n\n\n	\nSubmit\n\n\n\n\n\n	\n			\n			\n				If you are human\, leave this field blank.			\n			\n		\n		\n\n\n\nΔ
URL:https://theatomcoffeebar.com/event/celtic-music-by-stringsanity-trio/
LOCATION:The Atom Bistro and Coffee Bar\, 19017 N. Umpqua Hwy.\, Glide\, OR\, 97443\, United States
ATTACH;FMTTYPE=image/jpeg:https://theatomcoffeebar.com/wp-content/uploads/2026/03/Stringsanity-feature.jpg
END:VEVENT
BEGIN:VEVENT
DTSTART;TZID=America/Los_Angeles:20260327T180000
DTEND;TZID=America/Los_Angeles:20260327T200000
DTSTAMP:20260423T150525
CREATED:20260311T184352Z
LAST-MODIFIED:20260311T184352Z
UID:4536-1774634400-1774641600@theatomcoffeebar.com
SUMMARY:The Fabulous Delmontes
DESCRIPTION:They’ve become a regular at The Atom\, and for good reason.  You’ll enjoy this evening of Classic Rhythm and Blues from Troy “T-Bone” Stone (on harp) and Mike Keizer (on guitar). Make your reservation today.  Tables fill up fast! \n\n\n\n\nReservation Form\n\n\n\n\n\n\n\n\n	Name\n		*\n	\n	\n	\n		Name	\n\n	\n					\n				\n					First Name				\n\n				First Name			\n						\n				\n					Last Name				\n\n				Last Name			\n				\n\n\n	\n	\n\n\n	Phone\n		*\n	\n	\n	\n	\n\n\n	Email\n		*\n	\n	\n	\n	\n\n\n	Date\n		*\n	\n	\n	\n	\n\n\n	Time\n		\n	\n	5:30 PM5:45 PM6:00 PM6:15 PM6:30 PM6:45 PM7:00 PM7:15 PM\n	\n	\n\n\n	Number of Guests\n		\n	\n	\n	\n	\n\n\n	\nSubmit\n\n\n\n\n\n	\n			\n			\n				If you are human\, leave this field blank.			\n			\n		\n		\n\n\n\nΔ
URL:https://theatomcoffeebar.com/event/the-fabulous-delmontes-2/
LOCATION:The Atom Bistro and Coffee Bar\, 19017 N. Umpqua Hwy.\, Glide\, OR\, 97443\, United States
ATTACH;FMTTYPE=image/jpeg:https://theatomcoffeebar.com/wp-content/uploads/2026/03/Fabulous-Feature.jpg
END:VEVENT
BEGIN:VEVENT
DTSTART;TZID=America/Los_Angeles:20260403T180000
DTEND;TZID=America/Los_Angeles:20260403T200000
DTSTAMP:20260423T150525
CREATED:20260328T230953Z
LAST-MODIFIED:20260328T230953Z
UID:4555-1775239200-1775246400@theatomcoffeebar.com
SUMMARY:The Sunstone Trio
DESCRIPTION:The Sunstone Trio returns for another night of unique and original arrangements of your favorite jazz\, blues and swing music.  There’s a reason we keep asking them back – we feel truly honored to have these talented local artists play at The Atom.  Come show your support and have a great dinner while you’re at it!  Make a reservation today! \n\n\n\n\nReservation Form\n\n\n\n\n\n\n\n\n	Name\n		*\n	\n	\n	\n		Name	\n\n	\n					\n				\n					First Name				\n\n				First Name			\n						\n				\n					Last Name				\n\n				Last Name			\n				\n\n\n	\n	\n\n\n	Phone\n		*\n	\n	\n	\n	\n\n\n	Email\n		*\n	\n	\n	\n	\n\n\n	Date\n		*\n	\n	\n	\n	\n\n\n	Time\n		\n	\n	5:30 PM5:45 PM6:00 PM6:15 PM6:30 PM6:45 PM7:00 PM7:15 PM\n	\n	\n\n\n	Number of Guests\n		\n	\n	\n	\n	\n\n\n	\nSubmit\n\n\n\n\n\n	\n			\n			\n				If you are human\, leave this field blank.			\n			\n		\n		\n\n\n\nΔ
URL:https://theatomcoffeebar.com/event/the-sunstone-trio/
LOCATION:The Atom Bistro and Coffee Bar\, 19017 N. Umpqua Hwy.\, Glide\, OR\, 97443\, United States
ATTACH;FMTTYPE=image/jpeg:https://theatomcoffeebar.com/wp-content/uploads/2026/03/Sunstone-Feature.jpg
END:VEVENT
BEGIN:VEVENT
DTSTART;TZID=America/Los_Angeles:20260405T090000
DTEND;TZID=America/Los_Angeles:20260405T140000
DTSTAMP:20260423T150525
CREATED:20260328T231348Z
LAST-MODIFIED:20260328T231348Z
UID:4558-1775379600-1775397600@theatomcoffeebar.com
SUMMARY:Easter Brunch at The Atom
DESCRIPTION:Join us for our Second Annual Easter Brunch at the Atom!  We are so excited to bring these tasty breakfast specials to you.  Make your reservation today to guarantee your table!  We will be open from 9-2. \n \n\n\n\n\nReservation Form\n\n\n\n\n\n\n\n\n	Name\n		*\n	\n	\n	\n		Name	\n\n	\n					\n				\n					First Name				\n\n				First Name			\n						\n				\n					Last Name				\n\n				Last Name			\n				\n\n\n	\n	\n\n\n	Phone\n		*\n	\n	\n	\n	\n\n\n	Email\n		*\n	\n	\n	\n	\n\n\n	Date\n		*\n	\n	\n	\n	\n\n\n	Time\n		\n	\n	5:30 PM5:45 PM6:00 PM6:15 PM6:30 PM6:45 PM7:00 PM7:15 PM\n	\n	\n\n\n	Number of Guests\n		\n	\n	\n	\n	\n\n\n	\nSubmit\n\n\n\n\n\n	\n			\n			\n				If you are human\, leave this field blank.			\n			\n		\n		\n\n\n\nΔ
URL:https://theatomcoffeebar.com/event/easter-brunch-at-the-atom/
LOCATION:The Atom Bistro and Coffee Bar\, 19017 N. Umpqua Hwy.\, Glide\, OR\, 97443\, United States
ATTACH;FMTTYPE=image/jpeg:https://theatomcoffeebar.com/wp-content/uploads/2026/03/Easter-Feature.jpg
END:VEVENT
BEGIN:VEVENT
DTSTART;TZID=America/Los_Angeles:20260409T180000
DTEND;TZID=America/Los_Angeles:20260409T200000
DTSTAMP:20260423T150525
CREATED:20260328T232033Z
LAST-MODIFIED:20260328T232033Z
UID:4565-1775757600-1775764800@theatomcoffeebar.com
SUMMARY:90s Throwback Karaoke
DESCRIPTION:Break out your CDs and your color-block windbreakers because we are doing a night of Throwback 90s Karaoke!  Reserve a table for you and your friends\, and get ready to rock the night away! \n\n\n\n\nReservation Form\n\n\n\n\n\n\n\n\n	Name\n		*\n	\n	\n	\n		Name	\n\n	\n					\n				\n					First Name				\n\n				First Name			\n						\n				\n					Last Name				\n\n				Last Name			\n				\n\n\n	\n	\n\n\n	Phone\n		*\n	\n	\n	\n	\n\n\n	Email\n		*\n	\n	\n	\n	\n\n\n	Date\n		*\n	\n	\n	\n	\n\n\n	Time\n		\n	\n	5:30 PM5:45 PM6:00 PM6:15 PM6:30 PM6:45 PM7:00 PM7:15 PM\n	\n	\n\n\n	Number of Guests\n		\n	\n	\n	\n	\n\n\n	\nSubmit\n\n\n\n\n\n	\n			\n			\n				If you are human\, leave this field blank.			\n			\n		\n		\n\n\n\nΔ
URL:https://theatomcoffeebar.com/event/90s-throwback-karaoke/
LOCATION:OR
ATTACH;FMTTYPE=image/jpeg:https://theatomcoffeebar.com/wp-content/uploads/2026/03/90s_feature.jpg
END:VEVENT
BEGIN:VEVENT
DTSTART;TZID=America/Los_Angeles:20260410T180000
DTEND;TZID=America/Los_Angeles:20260410T200000
DTSTAMP:20260423T150525
CREATED:20260328T231702Z
LAST-MODIFIED:20260328T231702Z
UID:4562-1775844000-1775851200@theatomcoffeebar.com
SUMMARY:Jason Heald and Debra Kay
DESCRIPTION:We are so happy to have Jason Heald and Debra Kay back for another night of extraordinary mixes of eclectic jazz\, country and pop!  Make your reservation today since tables tend to fill up fast! \n\n\n\n\nReservation Form\n\n\n\n\n\n\n\n\n	Name\n		*\n	\n	\n	\n		Name	\n\n	\n					\n				\n					First Name				\n\n				First Name			\n						\n				\n					Last Name				\n\n				Last Name			\n				\n\n\n	\n	\n\n\n	Phone\n		*\n	\n	\n	\n	\n\n\n	Email\n		*\n	\n	\n	\n	\n\n\n	Date\n		*\n	\n	\n	\n	\n\n\n	Time\n		\n	\n	5:30 PM5:45 PM6:00 PM6:15 PM6:30 PM6:45 PM7:00 PM7:15 PM\n	\n	\n\n\n	Number of Guests\n		\n	\n	\n	\n	\n\n\n	\nSubmit\n\n\n\n\n\n	\n			\n			\n				If you are human\, leave this field blank.			\n			\n		\n		\n\n\n\nΔ
URL:https://theatomcoffeebar.com/event/jason-heald-and-debra-kay/
LOCATION:The Atom Bistro and Coffee Bar\, 19017 N. Umpqua Hwy.\, Glide\, OR\, 97443\, United States
ATTACH;FMTTYPE=image/jpeg:https://theatomcoffeebar.com/wp-content/uploads/2026/03/Heald-Feature.jpg
END:VEVENT
BEGIN:VEVENT
DTSTART;TZID=America/Los_Angeles:20260417T180000
DTEND;TZID=America/Los_Angeles:20260417T200000
DTSTAMP:20260423T150525
CREATED:20260328T232413Z
LAST-MODIFIED:20260414T201303Z
UID:4568-1776448800-1776456000@theatomcoffeebar.com
SUMMARY:Homemade Jam Duo
DESCRIPTION:Bob and Michelle Hall will be joining us for a night of folk\, bluegrass\, swing\, and original songs for all ages!  Reserve your table below\, and get ready for some great dinner specials!  You won’t want to miss this night! \n\n\n\n\nReservation Form\n\n\n\n\n\n\n\n\n	Name\n		*\n	\n	\n	\n		Name	\n\n	\n					\n				\n					First Name				\n\n				First Name			\n						\n				\n					Last Name				\n\n				Last Name			\n				\n\n\n	\n	\n\n\n	Phone\n		*\n	\n	\n	\n	\n\n\n	Email\n		*\n	\n	\n	\n	\n\n\n	Date\n		*\n	\n	\n	\n	\n\n\n	Time\n		\n	\n	5:30 PM5:45 PM6:00 PM6:15 PM6:30 PM6:45 PM7:00 PM7:15 PM\n	\n	\n\n\n	Number of Guests\n		\n	\n	\n	\n	\n\n\n	\nSubmit\n\n\n\n\n\n	\n			\n			\n				If you are human\, leave this field blank.			\n			\n		\n		\n\n\n\nΔ
URL:https://theatomcoffeebar.com/event/homemade-jam-duo/
LOCATION:The Atom Bistro and Coffee Bar\, 19017 N. Umpqua Hwy.\, Glide\, OR\, 97443\, United States
ATTACH;FMTTYPE=image/jpeg:https://theatomcoffeebar.com/wp-content/uploads/2026/03/Hall-Feature-scaled.jpg
END:VEVENT
BEGIN:VEVENT
DTSTART;TZID=America/Los_Angeles:20260424T180000
DTEND;TZID=America/Los_Angeles:20260424T200000
DTSTAMP:20260423T150525
CREATED:20260419T211953Z
LAST-MODIFIED:20260419T211953Z
UID:4631-1777053600-1777060800@theatomcoffeebar.com
SUMMARY:Live Music with Tim Stephanos and Justus MackIntosh
DESCRIPTION:We welcome Tim Stephanos and Justus MackIntosh back to The Atom for another evening of great music\, food\, drinks\, and atmosphere.  Tim and Justus are very talented local artists that bring a mellow and eclectic groove to bring the right vibe to start your weekend.  Make a reservation today to guarantee your table!  We will have plenty of patio seating as well. \n\n\n\n\nReservation Form\n\n\n\n\n\n\n\n\n	Name\n		*\n	\n	\n	\n		Name	\n\n	\n					\n				\n					First Name				\n\n				First Name			\n						\n				\n					Last Name				\n\n				Last Name			\n				\n\n\n	\n	\n\n\n	Phone\n		*\n	\n	\n	\n	\n\n\n	Email\n		*\n	\n	\n	\n	\n\n\n	Date\n		*\n	\n	\n	\n	\n\n\n	Time\n		\n	\n	5:30 PM5:45 PM6:00 PM6:15 PM6:30 PM6:45 PM7:00 PM7:15 PM\n	\n	\n\n\n	Number of Guests\n		\n	\n	\n	\n	\n\n\n	\nSubmit\n\n\n\n\n\n	\n			\n			\n				If you are human\, leave this field blank.			\n			\n		\n		\n\n\n\nΔ
URL:https://theatomcoffeebar.com/event/live-music-with-tim-stephanos-and-justus-mackintosh/
LOCATION:The Atom Bistro and Coffee Bar\, 19017 N. Umpqua Hwy.\, Glide\, OR\, 97443\, United States
ATTACH;FMTTYPE=image/jpeg:https://theatomcoffeebar.com/wp-content/uploads/2026/04/Stephanos-April-Feature-scaled.jpg
END:VEVENT
BEGIN:VEVENT
DTSTART;TZID=America/Los_Angeles:20260425T180000
DTEND;TZID=America/Los_Angeles:20260425T200000
DTSTAMP:20260423T150525
CREATED:20260419T212607Z
LAST-MODIFIED:20260419T212607Z
UID:4633-1777140000-1777147200@theatomcoffeebar.com
SUMMARY:SATURDAY Live Music with Rovers and Dragons
DESCRIPTION:We’re mixing things up this week by bringing you live entertainment this Saturday night with Rovers and Dragons!  Think Viking\, Celtic\, Fiddle\, Drums and Bagpipes (not inside)… add BOGO 1/2 Price Beers\, Sausages\, and Roasted Turkey Legs – and this is bound to be a great time!  We hope you’ll join us!  Make a reservation or just show up!  We will have the patio open and plenty of seating! \n\n\n\n\nReservation Form\n\n\n\n\n\n\n\n\n	Name\n		*\n	\n	\n	\n		Name	\n\n	\n					\n				\n					First Name				\n\n				First Name			\n						\n				\n					Last Name				\n\n				Last Name			\n				\n\n\n	\n	\n\n\n	Phone\n		*\n	\n	\n	\n	\n\n\n	Email\n		*\n	\n	\n	\n	\n\n\n	Date\n		*\n	\n	\n	\n	\n\n\n	Time\n		\n	\n	5:30 PM5:45 PM6:00 PM6:15 PM6:30 PM6:45 PM7:00 PM7:15 PM\n	\n	\n\n\n	Number of Guests\n		\n	\n	\n	\n	\n\n\n	\nSubmit\n\n\n\n\n\n	\n			\n			\n				If you are human\, leave this field blank.			\n			\n		\n		\n\n\n\nΔ
URL:https://theatomcoffeebar.com/event/saturday-live-music-with-rovers-and-dragons/
LOCATION:The Atom Bistro and Coffee Bar\, 19017 N. Umpqua Hwy.\, Glide\, OR\, 97443\, United States
ATTACH;FMTTYPE=image/jpeg:https://theatomcoffeebar.com/wp-content/uploads/2026/04/Rovers-and-Dragons-Feature.jpg
END:VEVENT
BEGIN:VEVENT
DTSTART;TZID=America/Los_Angeles:20260430T180000
DTEND;TZID=America/Los_Angeles:20260430T200000
DTSTAMP:20260423T150525
CREATED:20260419T213041Z
LAST-MODIFIED:20260419T213041Z
UID:4636-1777572000-1777579200@theatomcoffeebar.com
SUMMARY:1950s Grease Karaoke
DESCRIPTION:“You’re the One that I Want” to show up to our 1950s Grease Themed Karaoke Night!  We’re flipping burgers and fries and serving up milkshakes to go along with all your Greaser and Pink Lady costumes!  Make your reservation for you and your friends today! \n\n\n\n\nReservation Form\n\n\n\n\n\n\n\n\n	Name\n		*\n	\n	\n	\n		Name	\n\n	\n					\n				\n					First Name				\n\n				First Name			\n						\n				\n					Last Name				\n\n				Last Name			\n				\n\n\n	\n	\n\n\n	Phone\n		*\n	\n	\n	\n	\n\n\n	Email\n		*\n	\n	\n	\n	\n\n\n	Date\n		*\n	\n	\n	\n	\n\n\n	Time\n		\n	\n	5:30 PM5:45 PM6:00 PM6:15 PM6:30 PM6:45 PM7:00 PM7:15 PM\n	\n	\n\n\n	Number of Guests\n		\n	\n	\n	\n	\n\n\n	\nSubmit\n\n\n\n\n\n	\n			\n			\n				If you are human\, leave this field blank.			\n			\n		\n		\n\n\n\nΔ
URL:https://theatomcoffeebar.com/event/1950s-grease-karaoke/
LOCATION:The Atom Bistro and Coffee Bar\, 19017 N. Umpqua Hwy.\, Glide\, OR\, 97443\, United States
ATTACH;FMTTYPE=image/jpeg:https://theatomcoffeebar.com/wp-content/uploads/2026/04/fifties-grease-feature.jpg
END:VEVENT
END:VCALENDAR