BEGIN:VCALENDAR
VERSION:2.0
PRODID:-//The Atom Bistro and Coffee Bar - ECPv6.15.20//NONSGML v1.0//EN
CALSCALE:GREGORIAN
METHOD:PUBLISH
X-WR-CALNAME:The Atom Bistro and Coffee Bar
X-ORIGINAL-URL:https://theatomcoffeebar.com
X-WR-CALDESC:Events for The Atom Bistro and Coffee Bar
REFRESH-INTERVAL;VALUE=DURATION:PT1H
X-Robots-Tag:noindex
X-PUBLISHED-TTL:PT1H
BEGIN:VTIMEZONE
TZID:America/Los_Angeles
BEGIN:DAYLIGHT
TZOFFSETFROM:-0800
TZOFFSETTO:-0700
TZNAME:PDT
DTSTART:20250309T100000
END:DAYLIGHT
BEGIN:STANDARD
TZOFFSETFROM:-0700
TZOFFSETTO:-0800
TZNAME:PST
DTSTART:20251102T090000
END:STANDARD
BEGIN:DAYLIGHT
TZOFFSETFROM:-0800
TZOFFSETTO:-0700
TZNAME:PDT
DTSTART:20260308T100000
END:DAYLIGHT
BEGIN:STANDARD
TZOFFSETFROM:-0700
TZOFFSETTO:-0800
TZNAME:PST
DTSTART:20261101T090000
END:STANDARD
BEGIN:DAYLIGHT
TZOFFSETFROM:-0800
TZOFFSETTO:-0700
TZNAME:PDT
DTSTART:20270314T100000
END:DAYLIGHT
BEGIN:STANDARD
TZOFFSETFROM:-0700
TZOFFSETTO:-0800
TZNAME:PST
DTSTART:20271107T090000
END:STANDARD
END:VTIMEZONE
BEGIN:VEVENT
DTSTART;TZID=America/Los_Angeles:20260213T173000
DTEND;TZID=America/Los_Angeles:20260213T210000
DTSTAMP:20260423T161220
CREATED:20260123T230143Z
LAST-MODIFIED:20260213T184254Z
UID:4455-1771003800-1771016400@theatomcoffeebar.com
SUMMARY:Valentine's Weekend - Friday Reservations
DESCRIPTION:Show your better half how much you care by having a reservation booked in advance for an intimate and exclusive dinner at The Atom.  Add Flowers\, Champagne\, a Plush Teddy Bear and Chocolate covered Strawberries to round out our carefully planned menu of Appetizers\, Entrees\, and Desserts\, and you have a perfect evening in the works.  We have Live Music by David Rogers\, acoustic guitar.  Please call 541-530-8557 to check availability.  ToWe are no longer accepting online reservations. \n 
URL:https://theatomcoffeebar.com/event/valentines-weekend-reservation-only/
LOCATION:The Atom Bistro and Coffee Bar\, 19017 N. Umpqua Hwy.\, Glide\, OR\, 97443\, United States
ATTACH;FMTTYPE=image/jpeg:https://theatomcoffeebar.com/wp-content/uploads/2026/01/VDay-Hands.jpg
END:VEVENT
BEGIN:VEVENT
DTSTART;TZID=America/Los_Angeles:20260206T180000
DTEND;TZID=America/Los_Angeles:20260206T200000
DTSTAMP:20260423T161220
CREATED:20260123T005902Z
LAST-MODIFIED:20260123T005902Z
UID:4450-1770400800-1770408000@theatomcoffeebar.com
SUMMARY:Speakeasy at The Atom
DESCRIPTION:Grab your fedora and pearls!  It’s another Speakeasy Night at The Atom.  Our 1920s Themed Evening has been a hit with live music and great dinner specials.  We dress up our Venue and a good portion of our patrons and staff enjoy the opportunity to dress up themselves.  This time\, we have Jason Heald and Debra Kay playing live Swing and Jazz Music – so you may want to brush up on your Charleston and wear some comfy shoes.  Make a reservation as tables can fill up fast\, and we rarely have turn-over on nights like this.  We hope to see you there for a fabulous Roaring 20s good time. \n\n\n\n\nReservation Form\n\n\n\n\n\n\n\n\n	Name\n		*\n	\n	\n	\n		Name	\n\n	\n					\n				\n					First Name				\n\n				First Name			\n						\n				\n					Last Name				\n\n				Last Name			\n				\n\n\n	\n	\n\n\n	Phone\n		*\n	\n	\n	\n	\n\n\n	Email\n		*\n	\n	\n	\n	\n\n\n	Date\n		*\n	\n	\n	\n	\n\n\n	Time\n		\n	\n	5:30 PM5:45 PM6:00 PM6:15 PM6:30 PM6:45 PM7:00 PM7:15 PM\n	\n	\n\n\n	Number of Guests\n		\n	\n	\n	\n	\n\n\n	\nSubmit\n\n\n\n\n\n	\n			\n			\n				If you are human\, leave this field blank.			\n			\n		\n		\n\n\n\nΔ
URL:https://theatomcoffeebar.com/event/speakeasy-at-the-atom/
LOCATION:The Atom Bistro and Coffee Bar\, 19017 N. Umpqua Hwy.\, Glide\, OR\, 97443\, United States
ATTACH;FMTTYPE=image/jpeg:https://theatomcoffeebar.com/wp-content/uploads/2026/01/SpeakeasyJasonDebra-scaled.jpg
END:VEVENT
BEGIN:VEVENT
DTSTART;TZID=America/Los_Angeles:20260205T180000
DTEND;TZID=America/Los_Angeles:20260205T200000
DTSTAMP:20260423T161220
CREATED:20260123T001458Z
LAST-MODIFIED:20260123T005102Z
UID:4447-1770314400-1770321600@theatomcoffeebar.com
SUMMARY:Back to the 80s Karaoke
DESCRIPTION:Grab a Mic and take a trip back in time with us for 1980s Karaoke Night at the Atom!  We’ll be busting out the Neon\, Big Hair\, and Synthesizers – but don’t think we will limit you to the 1980s if your favorite go-to song is from another time.  We welcome your favorites.  Just find your inner superstar and join us for a night of fun at The Atom! \n\n\n\n\nReservation Form\n\n\n\n\n\n\n\n\n	Name\n		*\n	\n	\n	\n		Name	\n\n	\n					\n				\n					First Name				\n\n				First Name			\n						\n				\n					Last Name				\n\n				Last Name			\n				\n\n\n	\n	\n\n\n	Phone\n		*\n	\n	\n	\n	\n\n\n	Email\n		*\n	\n	\n	\n	\n\n\n	Date\n		*\n	\n	\n	\n	\n\n\n	Time\n		\n	\n	5:30 PM5:45 PM6:00 PM6:15 PM6:30 PM6:45 PM7:00 PM7:15 PM\n	\n	\n\n\n	Number of Guests\n		\n	\n	\n	\n	\n\n\n	\nSubmit\n\n\n\n\n\n	\n			\n			\n				If you are human\, leave this field blank.			\n			\n		\n		\n\n\n\nΔ
URL:https://theatomcoffeebar.com/event/80s-karaoke/
LOCATION:The Atom Bistro and Coffee Bar\, 19017 N. Umpqua Hwy.\, Glide\, OR\, 97443\, United States
ATTACH;FMTTYPE=image/jpeg:https://theatomcoffeebar.com/wp-content/uploads/2026/01/80s-Karaoke.jpg
END:VEVENT
BEGIN:VEVENT
DTSTART;TZID=America/Los_Angeles:20260130T180000
DTEND;TZID=America/Los_Angeles:20260130T200000
DTSTAMP:20260423T161220
CREATED:20260122T013339Z
LAST-MODIFIED:20260122T230015Z
UID:4433-1769796000-1769803200@theatomcoffeebar.com
SUMMARY:Live Music with Levi Chase
DESCRIPTION:We are thrilled to have Levi Chase back at The Atom for another night of Soulful Slow-Groove Live Music.  The local talent we have in Douglas County is incredible\, and we are so glad we can create a platform for these artists to share their gift.  Please show your support and enjoy some great dinner options while you are at it!  Great Music\, Great Food\, Great Atmosphere… they go hand in hand at The Atom. \n \nMake your Reservation Here! \n\n\n\n\nReservation Form\n\n\n\n\n\n\n\n\n	Name\n		*\n	\n	\n	\n		Name	\n\n	\n					\n				\n					First Name				\n\n				First Name			\n						\n				\n					Last Name				\n\n				Last Name			\n				\n\n\n	\n	\n\n\n	Phone\n		*\n	\n	\n	\n	\n\n\n	Email\n		*\n	\n	\n	\n	\n\n\n	Date\n		*\n	\n	\n	\n	\n\n\n	Time\n		\n	\n	5:30 PM5:45 PM6:00 PM6:15 PM6:30 PM6:45 PM7:00 PM7:15 PM\n	\n	\n\n\n	Number of Guests\n		\n	\n	\n	\n	\n\n\n	\nSubmit\n\n\n\n\n\n	\n			\n			\n				If you are human\, leave this field blank.			\n			\n		\n		\n\n\n\nΔ \n\n\nPlease note… you will receive a personal confirmation email with the date\, time\, and number of guests.  Your reservation is not confirmed until you receive that email.
URL:https://theatomcoffeebar.com/event/live-music-with-levi-chase/
LOCATION:The Atom Bistro and Coffee Bar\, 19017 N. Umpqua Hwy.\, Glide\, OR\, 97443\, United States
ATTACH;FMTTYPE=image/jpeg:https://theatomcoffeebar.com/wp-content/uploads/2026/01/Levi2web.jpg
END:VEVENT
BEGIN:VEVENT
DTSTART;TZID=America/Los_Angeles:20260123T180000
DTEND;TZID=America/Los_Angeles:20260123T200000
DTSTAMP:20260423T161220
CREATED:20260113T234237Z
LAST-MODIFIED:20260113T234237Z
UID:4418-1769191200-1769198400@theatomcoffeebar.com
SUMMARY:Christine Elise
DESCRIPTION:We love having local creative talent perform at The Atom\, and you won’t want to miss this one. Christine Elise will be performing for us this night with a collection of her own original Indie songs as well as a collection of covers!
URL:https://theatomcoffeebar.com/event/christine-elise/
LOCATION:The Atom Bistro and Coffee Bar\, 19017 N. Umpqua Hwy.\, Glide\, OR\, 97443\, United States
ATTACH;FMTTYPE=image/jpeg:https://theatomcoffeebar.com/wp-content/uploads/2026/01/Christine-Elise.jpg
END:VEVENT
BEGIN:VEVENT
DTSTART;TZID=America/Los_Angeles:20260116T180000
DTEND;TZID=America/Los_Angeles:20260116T200000
DTSTAMP:20260423T161220
CREATED:20260113T231422Z
LAST-MODIFIED:20260113T231749Z
UID:4414-1768586400-1768593600@theatomcoffeebar.com
SUMMARY:The Fabulous Delmontes
DESCRIPTION:T-Bone Stone\, harp player and vocalist\, along with Mike Keizer\, guitar and vocalist\, are the very talented Fabulous Delmontes!  Enjoy an evening of great Classic Rhythm and Blues at the Atom!  We will be rolling out some dinner specials and drinks to compliment the evening!  See you there! \nhttps://theatomcoffeebar.com/wp-content/uploads/2026/01/Fabulous-Delmontes.mp4
URL:https://theatomcoffeebar.com/event/the-fabulous-delmontes/
LOCATION:The Atom Bistro and Coffee Bar\, 19017 N. Umpqua Hwy.\, Glide\, OR\, 97443\, United States
ATTACH;FMTTYPE=image/jpeg:https://theatomcoffeebar.com/wp-content/uploads/2026/01/Delmontes-January.jpg
END:VEVENT
BEGIN:VEVENT
DTSTART;TZID=America/Los_Angeles:20260115T180000
DTEND;TZID=America/Los_Angeles:20260115T200000
DTSTAMP:20260423T161220
CREATED:20260113T222322Z
LAST-MODIFIED:20260113T224339Z
UID:4404-1768500000-1768507200@theatomcoffeebar.com
SUMMARY:Karaoke Night
DESCRIPTION:Join us for another fun night of Karaoke!  This is the most chill and inclusive Karaoke party you will ever go to.  We love participation\, and we are so happy to see anyone and everyone get up and participate!  All Genres\, regardless of the theme – just show up and have fun! \nhttps://theatomcoffeebar.com/wp-content/uploads/2026/01/Will-Karaoke-High.mp4\nhttps://theatomcoffeebar.com/wp-content/uploads/2026/01/Little-Tomato.mp4
URL:https://theatomcoffeebar.com/event/karaoke-night/
LOCATION:The Atom Bistro and Coffee Bar\, 19017 N. Umpqua Hwy.\, Glide\, OR\, 97443\, United States
ATTACH;FMTTYPE=image/jpeg:https://theatomcoffeebar.com/wp-content/uploads/2026/01/Karaoke.jpg
END:VEVENT
BEGIN:VEVENT
DTSTART;TZID=America/Los_Angeles:20260109T180000
DTEND;TZID=America/Los_Angeles:20260109T200000
DTSTAMP:20260423T161220
CREATED:20260109T011745Z
LAST-MODIFIED:20260109T020331Z
UID:4392-1767981600-1767988800@theatomcoffeebar.com
SUMMARY:The Atom Speakeasy
DESCRIPTION:The Atom Bistro is proud to present another night of Outstanding Swing music and Tasty Dinner Specials at our Atom Speakeasy Event.  We welcome the Sunstone Trio performing a variety of swing and acoustic compositions that perfectly compliment our 1920s theme.  We love to dress up\, but it isn’t necessary.  Reserve a table today! \nhttps://theatomcoffeebar.com/wp-content/uploads/2026/01/Sunstone-Trio.mp4
URL:https://theatomcoffeebar.com/event/the-atom-speakeasy/
LOCATION:The Atom Bistro and Coffee Bar\, 19017 N. Umpqua Hwy.\, Glide\, OR\, 97443\, United States
ATTACH;FMTTYPE=image/jpeg:https://theatomcoffeebar.com/wp-content/uploads/2026/01/Speakeasy-Trio2.jpg
END:VEVENT
END:VCALENDAR